BEGIN:VCALENDAR
VERSION:2.0
PRODID:-//Oldtimerfreunde Rothenthurn - ECPv6.15.18//NONSGML v1.0//EN
CALSCALE:GREGORIAN
METHOD:PUBLISH
X-WR-CALNAME:Oldtimerfreunde Rothenthurn
X-ORIGINAL-URL:https://www.oldtimerfreunde-rothenthurn.at
X-WR-CALDESC:Veranstaltungen für Oldtimerfreunde Rothenthurn
REFRESH-INTERVAL;VALUE=DURATION:PT1H
X-Robots-Tag:noindex
X-PUBLISHED-TTL:PT1H
BEGIN:VTIMEZONE
TZID:Europe/Amsterdam
BEGIN:DAYLIGHT
TZOFFSETFROM:+0100
TZOFFSETTO:+0200
TZNAME:CEST
DTSTART:20250330T010000
END:DAYLIGHT
BEGIN:STANDARD
TZOFFSETFROM:+0200
TZOFFSETTO:+0100
TZNAME:CET
DTSTART:20251026T010000
END:STANDARD
BEGIN:DAYLIGHT
TZOFFSETFROM:+0100
TZOFFSETTO:+0200
TZNAME:CEST
DTSTART:20260329T010000
END:DAYLIGHT
BEGIN:STANDARD
TZOFFSETFROM:+0200
TZOFFSETTO:+0100
TZNAME:CET
DTSTART:20261025T010000
END:STANDARD
BEGIN:DAYLIGHT
TZOFFSETFROM:+0100
TZOFFSETTO:+0200
TZNAME:CEST
DTSTART:20270328T010000
END:DAYLIGHT
BEGIN:STANDARD
TZOFFSETFROM:+0200
TZOFFSETTO:+0100
TZNAME:CET
DTSTART:20271031T010000
END:STANDARD
END:VTIMEZONE
BEGIN:VEVENT
DTSTART;TZID=Europe/Amsterdam:20260523T180000
DTEND;TZID=Europe/Amsterdam:20260523T180000
DTSTAMP:20260419T150747
CREATED:20260327T072714Z
LAST-MODIFIED:20260330T114821Z
UID:3756-1779559200-1779559200@www.oldtimerfreunde-rothenthurn.at
SUMMARY:Oldi night party
DESCRIPTION:ab 18:00 Uhr Live-Musik mit Miss Red Shoe & Chrise Blue \n– Pop\, Rock & Soul vom Feinsten
URL:https://www.oldtimerfreunde-rothenthurn.at/event/oldi-night-party/
LOCATION:Clubgelände in Olsach\, Alte Strasse 1\, Rothenthurn\, Kärnten\, 9701\, Österreich
END:VEVENT
BEGIN:VEVENT
DTSTART;TZID=Europe/Amsterdam:20260524T090000
DTEND;TZID=Europe/Amsterdam:20260524T170000
DTSTAMP:20260419T150747
CREATED:20260327T090145Z
LAST-MODIFIED:20260327T090539Z
UID:3773-1779613200-1779642000@www.oldtimerfreunde-rothenthurn.at
SUMMARY:Oldtimer-Treffen 2026
DESCRIPTION:Unser 24. Oldtimer-Treffen findet wie immer am Pfingstsonntag statt.\nKommt vorbei und seht eucht die großartigen Fahrzeuge an. Jeder ist herzlich Willkommen! Wir freuen uns auf euch!
URL:https://www.oldtimerfreunde-rothenthurn.at/event/oldtimer-treffen-2026/
LOCATION:Clubgelände in Olsach\, Alte Strasse 1\, Rothenthurn\, Kärnten\, 9701\, Österreich
END:VEVENT
END:VCALENDAR